BEGIN:VCALENDAR
VERSION:2.0
PRODID:-//Champlain Lennoxville - ECPv6.15.12.2//NONSGML v1.0//EN
CALSCALE:GREGORIAN
METHOD:PUBLISH
X-WR-CALNAME:Champlain Lennoxville
X-ORIGINAL-URL:https://www.crc-lennox.qc.ca/fr/
X-WR-CALDESC:Évènements pour Champlain Lennoxville
REFRESH-INTERVAL;VALUE=DURATION:PT1H
X-Robots-Tag:noindex
X-PUBLISHED-TTL:PT1H
BEGIN:VTIMEZONE
TZID:America/New_York
BEGIN:DAYLIGHT
TZOFFSETFROM:-0500
TZOFFSETTO:-0400
TZNAME:EDT
DTSTART:20250309T070000
END:DAYLIGHT
BEGIN:STANDARD
TZOFFSETFROM:-0400
TZOFFSETTO:-0500
TZNAME:EST
DTSTART:20251102T060000
END:STANDARD
BEGIN:DAYLIGHT
TZOFFSETFROM:-0500
TZOFFSETTO:-0400
TZNAME:EDT
DTSTART:20260308T070000
END:DAYLIGHT
BEGIN:STANDARD
TZOFFSETFROM:-0400
TZOFFSETTO:-0500
TZNAME:EST
DTSTART:20261101T060000
END:STANDARD
BEGIN:DAYLIGHT
TZOFFSETFROM:-0500
TZOFFSETTO:-0400
TZNAME:EDT
DTSTART:20270314T070000
END:DAYLIGHT
BEGIN:STANDARD
TZOFFSETFROM:-0400
TZOFFSETTO:-0500
TZNAME:EST
DTSTART:20271107T060000
END:STANDARD
END:VTIMEZONE
BEGIN:VEVENT
DTSTART;VALUE=DATE:20260512
DTEND;VALUE=DATE:20260513
DTSTAMP:20260425T141958
CREATED:20251219T153619Z
LAST-MODIFIED:20251219T153619Z
UID:15462-1778544000-1778630399@www.crc-lennox.qc.ca
SUMMARY:Dernier jour de cours
DESCRIPTION:
URL:https://www.crc-lennox.qc.ca/fr/event/dernier-jour-de-cours-3/
LOCATION:Quebec
CATEGORIES:Calendrier scolaire,Événements du collège
ATTACH;FMTTYPE=image/jpeg:https://www.crc-lennox.qc.ca/wp-content/uploads/2024/10/Students-Using-Calculators-in-Class.jpg
END:VEVENT
BEGIN:VEVENT
DTSTART;VALUE=DATE:20260515
DTEND;VALUE=DATE:20260516
DTSTAMP:20260425T141958
CREATED:20260309T200628Z
LAST-MODIFIED:20260310T142506Z
UID:15770-1778803200-1778889599@www.crc-lennox.qc.ca
SUMMARY:Premier jour de la période d'examens
DESCRIPTION:
URL:https://www.crc-lennox.qc.ca/fr/event/premier-jour-de-la-periode-dexamens/
LOCATION:Quebec
CATEGORIES:Calendrier scolaire,Événements du collège
ATTACH;FMTTYPE=image/jpeg:https://www.crc-lennox.qc.ca/wp-content/uploads/2024/10/Students-Using-Calculators-in-Class.jpg
END:VEVENT
BEGIN:VEVENT
DTSTART;VALUE=DATE:20260518
DTEND;VALUE=DATE:20260519
DTSTAMP:20260425T141958
CREATED:20260309T195725Z
LAST-MODIFIED:20260309T195725Z
UID:15765-1779062400-1779148799@www.crc-lennox.qc.ca
SUMMARY:Journée nationale des Patriotes - Pas d'examens
DESCRIPTION:
URL:https://www.crc-lennox.qc.ca/fr/event/journee-nationale-des-patriotes-pas-dexamens/
LOCATION:Quebec
CATEGORIES:Calendrier scolaire,Événements du collège
ATTACH;FMTTYPE=image/jpeg:https://www.crc-lennox.qc.ca/wp-content/uploads/2025/07/A7109746.jpg
END:VEVENT
BEGIN:VEVENT
DTSTART;VALUE=DATE:20260526
DTEND;VALUE=DATE:20260527
DTSTAMP:20260425T141958
CREATED:20260310T143250Z
LAST-MODIFIED:20260310T143250Z
UID:15780-1779753600-1779839999@www.crc-lennox.qc.ca
SUMMARY:Dernier jour de la période d'examens
DESCRIPTION:
URL:https://www.crc-lennox.qc.ca/fr/event/dernier-jour-de-la-periode-dexamens/
LOCATION:Quebec
CATEGORIES:Calendrier scolaire,Événements du collège
ATTACH;FMTTYPE=image/jpeg:https://www.crc-lennox.qc.ca/wp-content/uploads/2024/10/Students-Using-Calculators-in-Class.jpg
END:VEVENT
BEGIN:VEVENT
DTSTART;VALUE=DATE:20260608
DTEND;VALUE=DATE:20260609
DTSTAMP:20260425T141958
CREATED:20260318T154234Z
LAST-MODIFIED:20260318T154234Z
UID:15868-1780876800-1780963199@www.crc-lennox.qc.ca
SUMMARY:Remise des diplômes
DESCRIPTION:
URL:https://www.crc-lennox.qc.ca/fr/event/remise-des-diplomes/
LOCATION:Quebec
CATEGORIES:Calendrier scolaire,Événements du collège
ATTACH;FMTTYPE=image/jpeg:https://www.crc-lennox.qc.ca/wp-content/uploads/2026/03/DSC_0172_websize.jpg
END:VEVENT
BEGIN:VEVENT
DTSTART;TZID=America/New_York:20261017T090000
DTEND;TZID=America/New_York:20261017T120000
DTSTAMP:20260425T141958
CREATED:20260423T155736Z
LAST-MODIFIED:20260423T155935Z
UID:16089-1792227600-1792238400@www.crc-lennox.qc.ca
SUMMARY:Portes ouvertes
DESCRIPTION:
URL:https://www.crc-lennox.qc.ca/fr/event/portes-ouvertes-3/
LOCATION:Champlain College-Lennoxville\, 2580 rue College\, Sherbrooke\, Quebec\, J1M 2K3\, Canada
CATEGORIES:Événements du collège
ATTACH;FMTTYPE=image/png:https://www.crc-lennox.qc.ca/wp-content/uploads/2026/04/Webpage-Middle-Photos-8.png
END:VEVENT
END:VCALENDAR