BEGIN:VCALENDAR
VERSION:2.0
PRODID:-//Champlain Lennoxville - ECPv6.15.12.2//NONSGML v1.0//EN
CALSCALE:GREGORIAN
METHOD:PUBLISH
X-WR-CALNAME:Champlain Lennoxville
X-ORIGINAL-URL:https://www.crc-lennox.qc.ca
X-WR-CALDESC:Events for Champlain Lennoxville
REFRESH-INTERVAL;VALUE=DURATION:PT1H
X-Robots-Tag:noindex
X-PUBLISHED-TTL:PT1H
BEGIN:VTIMEZONE
TZID:America/New_York
BEGIN:DAYLIGHT
TZOFFSETFROM:-0500
TZOFFSETTO:-0400
TZNAME:EDT
DTSTART:20250309T070000
END:DAYLIGHT
BEGIN:STANDARD
TZOFFSETFROM:-0400
TZOFFSETTO:-0500
TZNAME:EST
DTSTART:20251102T060000
END:STANDARD
BEGIN:DAYLIGHT
TZOFFSETFROM:-0500
TZOFFSETTO:-0400
TZNAME:EDT
DTSTART:20260308T070000
END:DAYLIGHT
BEGIN:STANDARD
TZOFFSETFROM:-0400
TZOFFSETTO:-0500
TZNAME:EST
DTSTART:20261101T060000
END:STANDARD
BEGIN:DAYLIGHT
TZOFFSETFROM:-0500
TZOFFSETTO:-0400
TZNAME:EDT
DTSTART:20270314T070000
END:DAYLIGHT
BEGIN:STANDARD
TZOFFSETFROM:-0400
TZOFFSETTO:-0500
TZNAME:EST
DTSTART:20271107T060000
END:STANDARD
END:VTIMEZONE
BEGIN:VEVENT
DTSTART;VALUE=DATE:20260512
DTEND;VALUE=DATE:20260513
DTSTAMP:20260420T195551
CREATED:20251119T182624Z
LAST-MODIFIED:20260310T142548Z
UID:15279-1778544000-1778630399@www.crc-lennox.qc.ca
SUMMARY:Last Day of Classes
DESCRIPTION:
URL:https://www.crc-lennox.qc.ca/event/last-day-of-classes-2/
CATEGORIES:Academic Calendar,College Events
ATTACH;FMTTYPE=image/jpeg:https://www.crc-lennox.qc.ca/wp-content/uploads/2024/10/Students-Using-Calculators-in-Class.jpg
END:VEVENT
BEGIN:VEVENT
DTSTART;VALUE=DATE:20260515
DTEND;VALUE=DATE:20260516
DTSTAMP:20260420T195551
CREATED:20260309T200454Z
LAST-MODIFIED:20260310T142359Z
UID:15768-1778803200-1778889599@www.crc-lennox.qc.ca
SUMMARY:First Day of Exam Period
DESCRIPTION:
URL:https://www.crc-lennox.qc.ca/event/first-day-of-exam-period/
CATEGORIES:Academic Calendar,College Events
ATTACH;FMTTYPE=image/jpeg:https://www.crc-lennox.qc.ca/wp-content/uploads/2024/10/Students-Using-Calculators-in-Class.jpg
END:VEVENT
BEGIN:VEVENT
DTSTART;VALUE=DATE:20260518
DTEND;VALUE=DATE:20260519
DTSTAMP:20260420T195551
CREATED:20260309T195123Z
LAST-MODIFIED:20260310T142235Z
UID:15757-1779062400-1779148799@www.crc-lennox.qc.ca
SUMMARY:Victoria Day - No Exams
DESCRIPTION:
URL:https://www.crc-lennox.qc.ca/event/victoria-day-no-exams/
CATEGORIES:Academic Calendar,College Events,Statutory Holiday
ATTACH;FMTTYPE=image/jpeg:https://www.crc-lennox.qc.ca/wp-content/uploads/2025/07/A7109746.jpg
END:VEVENT
BEGIN:VEVENT
DTSTART;VALUE=DATE:20260526
DTEND;VALUE=DATE:20260527
DTSTAMP:20260420T195551
CREATED:20260310T143147Z
LAST-MODIFIED:20260310T143147Z
UID:15778-1779753600-1779839999@www.crc-lennox.qc.ca
SUMMARY:Last Day of Exam Period
DESCRIPTION:
URL:https://www.crc-lennox.qc.ca/event/last-day-of-exam-period/
CATEGORIES:Academic Calendar,College Events
ATTACH;FMTTYPE=image/jpeg:https://www.crc-lennox.qc.ca/wp-content/uploads/2024/10/Students-Using-Calculators-in-Class.jpg
END:VEVENT
BEGIN:VEVENT
DTSTART;VALUE=DATE:20260608
DTEND;VALUE=DATE:20260609
DTSTAMP:20260420T195551
CREATED:20260318T154119Z
LAST-MODIFIED:20260318T154119Z
UID:15864-1780876800-1780963199@www.crc-lennox.qc.ca
SUMMARY:Graduation
DESCRIPTION:
URL:https://www.crc-lennox.qc.ca/event/graduation-2/
CATEGORIES:Academic Calendar,College Events
ATTACH;FMTTYPE=image/jpeg:https://www.crc-lennox.qc.ca/wp-content/uploads/2026/03/DSC_0172_websize.jpg
END:VEVENT
END:VCALENDAR